BEGIN:VCALENDAR
VERSION:2.0
PRODID:-//Formazione Xella
CALSCALE:GREGORIAN
METHOD:PUBLISH
X-WR-CALNAME:Formazione Xella
X-ORIGINAL-URL:https://formazione.xella-italia.it/evento/monza-arch/
X-WR-CALDESC:SOLUZIONI COSTRUTTIVE AD ALTA EFFICIENZA ENERGETICA, ECOSOSTENIBILI, SALUBRI E SICURE CON SISTEMI IN CALCESTRUZZO AERATO AUTOCLAVATO
BEGIN:VEVENT
DTSTART:20260924T150000
DTEND:20260924T180000
SUMMARY:SOLUZIONI COSTRUTTIVE AD ALTA EFFICIENZA ENERGETICA, ECOSOSTENIBILI, SALUBRI E SICURE CON SISTEMI IN CALCESTRUZZO AERATO AUTOCLAVATO
DESCRIPTION:Xella Italia, in collaborazione con l'Ordine degli Architetti P.P.C. della provincia di Monza e della Brianza, ti invita a partecipare al convegno in presenza dedicato alle <strong>SOLUZIONI COSTRUTTIVE AD ALTA EFFICIENZA ENERGETICA, ECOSOSTENIBILI, SALUBRI E SICURE CON SISTEMI IN CALCESTRUZZO AERATO AUTOCLAVATO (CAA).</strong>

Seminario tecnico dedicato ai nuovi CAM 2025 e ai principi di sostenibilità applicati all’involucro edilizio, con focus su LCA, EPD, DNSH e integrazione con PNRR e direttive europee. L’evento approfondisce soluzioni progettuali e costruttive per l’efficienza energetica, l’isolamento termico e acustico e la riqualificazione dell’esistente, con particolare attenzione ai sistemi in calcestruzzo aerato autoclavato. Completano il programma analisi comparative tra sistemi costruttivi, indicazioni sulla corretta posa e presentazione di casi studio reali.

<strong>CFP:
</strong><strong>3 </strong>per iscritti Ordine Architetti

<strong>ISCRIZIONI:
</strong><a href="https://www.ordinearchitetti.mb.it/formazione/offerta-formativa">Offerta formativa | Ordine Architetti MB</a>

&nbsp;

&nbsp;

&nbsp;

&nbsp;
LOCATION:Ordine Architetti PPC Prov. Di Monza E Della Brianza, Via Bartolomeo Zucchi, Monza, MB, Italia
END:VEVENT
END:VCALENDAR
