BEGIN:VCALENDAR
VERSION:2.0
PRODID:-//Formazione Xella
CALSCALE:GREGORIAN
METHOD:PUBLISH
X-WR-CALNAME:Formazione Xella
X-ORIGINAL-URL:https://formazione.xella-italia.it/evento/ig-passivhaus-lombardia/
X-WR-CALDESC:CONVEGNO REGIONALE 2025 &#8211; IG PASSIVHAUS LOMBARDIA
BEGIN:VEVENT
DTSTART:20251016T090000
DTEND:20251016T170000
SUMMARY:CONVEGNO REGIONALE 2025 &#8211; IG PASSIVHAUS LOMBARDIA
DESCRIPTION:Il Convegno IG Passivhaus Lombardia nasce con l’obiettivo di mettere in rete tecnici, aziende e istituzioni attorno a un nuovo paradigma costruttivo: edifici realmente “verdi”, dove comfort, efficienza ed emissioni zero convivono senza compromessi. Con l’Europa che chiede edifici sempre più performanti, il protocollo Passivhaus rappresenta non solo una risposta alla direttiva “Case Green”, ma un’opportunità concreta per ridurre i consumi e migliorare la qualità dell’abitare. Il programma formativo del convegno alterna sessioni tecniche e tavole rotonde con casi studio lombardi replicabili, per costruire un percorso condiviso verso una rigenerazione edilizia consapevole e sostenibile.

<strong>6 CFP ARC</strong><strong>H</strong><strong>ITETTI –</strong> accreditato Ordine Architetti PPC
<strong>7 CFP </strong><strong>GEOMETRI –</strong> accreditato Collegio Geometri e G.L.
<strong>INGEGNERI –</strong> accredito richiesto
LOCATION:ESEB, Via della Garzetta, 51, Brescia, BS, Italia
END:VEVENT
END:VCALENDAR
