BEGIN:VCALENDAR
VERSION:2.0
PRODID:-//Formazione Xella
CALSCALE:GREGORIAN
METHOD:PUBLISH
X-WR-CALNAME:Formazione Xella
X-ORIGINAL-URL:https://formazione.xella-italia.it/evento/progettare-ospedali-del-futuro/
X-WR-CALDESC:STRUTTURE SANITARIE E RSA: TECNOLOGIA E MATERIALI A SUPPORTO È LIETA DI INVITARLA DELLA PROGETTAZIONE
BEGIN:VEVENT
DTSTART:20240924T090000
DTEND:20240924T180000
SUMMARY:STRUTTURE SANITARIE E RSA: TECNOLOGIA E MATERIALI A SUPPORTO È LIETA DI INVITARLA DELLA PROGETTAZIONE
DESCRIPTION:Alla luce delle normative vigenti è oggi opportuno tener conto di nuovi criteri di progettazione per le <strong>strutture sanitarie</strong>, che ripensino le stanze di degenza, gli arredi e le finiture per le aree di attesa ai fini di un <strong>maggior comfort</strong>. L'intensità dei flussi di trasporto di materiali e persone rende inoltre necessario adottare materiali che garantiscano <strong>l'igienicità</strong> e la <strong>durabilità</strong> delle superfici. A supporto delle teorie esposte saranno presentati casi studio.

<strong>CFP:</strong>
Ordine degli Architetti nr. 8
Ordine degli Ingegneri nr. 6
Collegio dei Geometri nr. 6
LOCATION:M15 Magazzini delle professioni, Via Santa Teresa, Verona, VR, Italia
END:VEVENT
END:VCALENDAR
